{ "currentVersion": 10.91, "cimVersion": "2.9.0", "serviceDescription": "
Service de mosaique d'orthophotos aériennes prises en avril 2018. Publié en MTM8(EPSG: 32188). Niveau d'échelle de génération de cache jusqu'a 1:250<\/SPAN><\/P><\/DIV><\/DIV><\/DIV>",
"mapName": "Layers",
"description": " Service de mosaique d'orthophotos aériennes prises en avril 2018. Publié en MTM8(EPSG: 32188). Niveau d'échelle de génération de cache jusqu'a 1:250<\/SPAN><\/P><\/DIV><\/DIV><\/DIV>",
"copyrightText": "",
"supportsDynamicLayers": false,
"layers": [
{
"id": 0,
"name": "mosaic_avril18_rgb_10cm.vrt",
"parentLayerId": -1,
"defaultVisibility": true,
"subLayerIds": null,
"minScale": 16001,
"maxScale": 0,
"type": "Raster Layer",
"supportsDynamicLegends": true
},
{
"id": 1,
"name": "global_5m_avril2018.tif",
"parentLayerId": -1,
"defaultVisibility": true,
"subLayerIds": null,
"minScale": 0,
"maxScale": 0,
"type": "Raster Layer",
"supportsDynamicLegends": true
}
],
"tables": [],
"spatialReference": {
"wkid": 32188,
"latestWkid": 32188,
"xyTolerance": 0.001,
"zTolerance": 0.001,
"mTolerance": 0.001,
"falseX": -5317800,
"falseY": -10001100,
"xyUnits": 10000,
"falseZ": -100000,
"zUnits": 10000,
"falseM": -100000,
"mUnits": 10000
},
"singleFusedMapCache": true,
"tileInfo": {
"rows": 256,
"cols": 256,
"dpi": 96,
"format": "JPEG",
"compressionQuality": 75,
"origin": {
"x": 252929,
"y": 5074561
},
"spatialReference": {
"wkid": 32188,
"latestWkid": 32188,
"xyTolerance": 0.001,
"zTolerance": 0.001,
"mTolerance": 0.001,
"falseX": -5317800,
"falseY": -10001100,
"xyUnits": 4.503104285899046E8,
"falseZ": -100000,
"zUnits": 10000,
"falseM": -100000,
"mUnits": 10000
},
"lods": [
{
"level": 0,
"resolution": 67.73346880027094,
"scale": 256000
},
{
"level": 1,
"resolution": 33.86673440013547,
"scale": 128000
},
{
"level": 2,
"resolution": 16.933367200067735,
"scale": 64000
},
{
"level": 3,
"resolution": 8.466683600033868,
"scale": 32000
},
{
"level": 4,
"resolution": 4.233341800016934,
"scale": 16000
},
{
"level": 5,
"resolution": 2.116670900008467,
"scale": 8000
},
{
"level": 6,
"resolution": 1.0583354500042335,
"scale": 4000
},
{
"level": 7,
"resolution": 0.5291677250021167,
"scale": 2000
},
{
"level": 8,
"resolution": 0.26458386250105836,
"scale": 1000
},
{
"level": 9,
"resolution": 0.13229193125052918,
"scale": 500
},
{
"level": 10,
"resolution": 0.06614596562526459,
"scale": 250
}
]
},
"storageInfo": {
"storageFormat": "esriMapCacheStorageModeCompact",
"packetSize": 128
},
"initialExtent": {
"xmin": 268137.0473392161,
"ymin": 5039375.284300714,
"xmax": 310868.68299640156,
"ymax": 5064035.475110008,
"spatialReference": {
"wkid": 32188,
"latestWkid": 32188,
"xyTolerance": 0.001,
"zTolerance": 0.001,
"mTolerance": 0.001,
"falseX": -5317800,
"falseY": -10001100,
"xyUnits": 10000,
"falseZ": -100000,
"zUnits": 10000,
"falseM": -100000,
"mUnits": 10000
}
},
"fullExtent": {
"xmin": 242999.99999999983,
"ymin": 5008999.999999999,
"xmax": 343000.00000000035,
"ymax": 5098000.000000001,
"spatialReference": {
"wkid": 32188,
"latestWkid": 32188,
"xyTolerance": 0.001,
"zTolerance": 0.001,
"mTolerance": 0.001,
"falseX": -5317800,
"falseY": -10001100,
"xyUnits": 10000,
"falseZ": -100000,
"zUnits": 10000,
"falseM": -100000,
"mUnits": 10000
}
},
"datesInUnknownTimezone": false,
"minScale": 256000,
"maxScale": 250,
"units": "esriMeters",
"supportedImageFormatTypes": "PNG32,PNG24,PNG,JPG,DIB,TIFF,EMF,PS,PDF,GIF,SVG,SVGZ,BMP",
"documentInfo": {
"Title": "mosaique_ortho_2018_04_mtm8",
"Author": "",
"Comments": " Service de mosaique d'orthophotos aériennes prises en avril 2018. Publié en MTM8(EPSG: 32188). Niveau d'échelle de génération de cache jusqu'a 1:250<\/SPAN><\/P><\/DIV><\/DIV><\/DIV>",
"Subject": "Service de mosaique d'orthophotos aériennes prises en avril 2018. Publié en MTM8(EPSG: 32188). Niveau d'échelle de génération de cache jusqu'a 1:250",
"Category": "",
"AntialiasingMode": "None",
"TextAntialiasingMode": "Force",
"Version": "2.8.0",
"Keywords": "2018"
},
"supportsQueryDomains": true,
"capabilities": "Map",
"supportedQueryFormats": "JSON, geoJSON, PBF",
"exportTilesAllowed": false,
"referenceScale": 0.0,
"datumTransformations": [
{
"geoTransforms": [
{
"wkid": 108001,
"latestWkid": 1241,
"transformForward": true,
"name": "NAD_1927_To_NAD_1983_NADCON"
}
]
},
{
"geoTransforms": [
{
"wkid": 108001,
"latestWkid": 1241,
"transformForward": false,
"name": "NAD_1927_To_NAD_1983_NADCON"
}
]
}
],
"supportsDatumTransformation": true,
"archivingInfo": {"supportsHistoricMoment": false},
"supportsClipping": true,
"supportsSpatialFilter": true,
"supportsTimeRelation": true,
"supportsQueryDataElements": true,
"maxRecordCount": 2000,
"maxImageHeight": 4096,
"maxImageWidth": 4096,
"supportedExtensions": "",
"serviceItemId": "66d9f2bbf5e44d7aadbf2d42d36d9d83"
}