{ "currentVersion": 10.91, "cimVersion": "2.9.0", "serviceDescription": "
Mosaique d'orthophotos aériennes prises en novembre 2003. Publié en MTM8(EPSG: 32188). Niveau d'échelle de génération de cache jusqu'a 1:500<\/SPAN><\/P><\/DIV><\/DIV><\/DIV>",
"mapName": "Layers",
"description": " Mosaique d'orthophotos aériennes prises en novembre 2003. Publié en MTM8(EPSG: 32188). Niveau d'échelle de génération de cache jusqu'a 1:500<\/SPAN><\/P><\/DIV><\/DIV><\/DIV>",
"copyrightText": "",
"supportsDynamicLayers": false,
"layers": [
{
"id": 0,
"name": "AGS_CACHE_PHOTO_PG",
"parentLayerId": -1,
"defaultVisibility": true,
"subLayerIds": null,
"minScale": 0,
"maxScale": 0,
"type": "Feature Layer",
"geometryType": "esriGeometryPolygon",
"supportsDynamicLegends": true
}
],
"tables": [],
"spatialReference": {
"wkid": 32188,
"latestWkid": 32188,
"xyTolerance": 0.001,
"zTolerance": 2,
"mTolerance": 2,
"falseX": -5317800,
"falseY": -10001100,
"xyUnits": 4.503104285899046E8,
"falseZ": 0,
"zUnits": 1024,
"falseM": -100000,
"mUnits": 10000
},
"singleFusedMapCache": true,
"tileInfo": {
"rows": 256,
"cols": 256,
"dpi": 96,
"format": "JPEG",
"compressionQuality": 75,
"origin": {
"x": 252929,
"y": 5074561
},
"spatialReference": {
"wkid": 32188,
"latestWkid": 32188,
"xyTolerance": 0.001,
"zTolerance": 2,
"mTolerance": 2,
"falseX": -5317800,
"falseY": -10001100,
"xyUnits": 4.503104285899046E8,
"falseZ": 0,
"zUnits": 1024,
"falseM": -100000,
"mUnits": 10000
},
"lods": [
{
"level": 0,
"resolution": 67.73346880027094,
"scale": 256000
},
{
"level": 1,
"resolution": 33.86673440013547,
"scale": 128000
},
{
"level": 2,
"resolution": 16.933367200067735,
"scale": 64000
},
{
"level": 3,
"resolution": 8.466683600033868,
"scale": 32000
},
{
"level": 4,
"resolution": 4.233341800016934,
"scale": 16000
},
{
"level": 5,
"resolution": 2.116670900008467,
"scale": 8000
},
{
"level": 6,
"resolution": 1.0583354500042335,
"scale": 4000
},
{
"level": 7,
"resolution": 0.5291677250021167,
"scale": 2000
},
{
"level": 8,
"resolution": 0.26458386250105836,
"scale": 1000
},
{
"level": 9,
"resolution": 0.13229193125052918,
"scale": 500
}
]
},
"storageInfo": {
"storageFormat": "esriMapCacheStorageModeCompact",
"packetSize": 128
},
"initialExtent": {
"xmin": 266279.1146876793,
"ymin": 5035376.0563364215,
"xmax": 310720.88531400874,
"ymax": 5068623.943662301,
"spatialReference": {
"wkid": 32188,
"latestWkid": 32188,
"xyTolerance": 0.001,
"zTolerance": 2,
"mTolerance": 2,
"falseX": -5317800,
"falseY": -10001100,
"xyUnits": 4.503104285899046E8,
"falseZ": 0,
"zUnits": 1024,
"falseM": -100000,
"mUnits": 10000
}
},
"fullExtent": {
"xmin": 270268.76800000016,
"ymin": 5039881.464,
"xmax": 304948.30399999954,
"ymax": 5065891.116,
"spatialReference": {
"wkid": 32188,
"latestWkid": 32188,
"xyTolerance": 0.001,
"zTolerance": 2,
"mTolerance": 2,
"falseX": -5317800,
"falseY": -10001100,
"xyUnits": 4.503104285899046E8,
"falseZ": 0,
"zUnits": 1024,
"falseM": -100000,
"mUnits": 10000
}
},
"datesInUnknownTimezone": false,
"minScale": 256000,
"maxScale": 500,
"units": "esriMeters",
"supportedImageFormatTypes": "PNG32,PNG24,PNG,JPG,DIB,TIFF,EMF,PS,PDF,GIF,SVG,SVGZ,BMP",
"documentInfo": {
"Title": "mosaique_ortho_2003_11_mtm8",
"Author": "",
"Comments": " Mosaique d'orthophotos aériennes prises en novembre 2003. Publié en MTM8(EPSG: 32188). Niveau d'échelle de génération de cache jusqu'a 1:500<\/SPAN><\/P><\/DIV><\/DIV><\/DIV>",
"Subject": "Mosaique d'orthophotos aériennes prises en novembre 2003. Publié en MTM8(EPSG: 32188). Niveau d'échelle de génération de cache jusqu'a 1:500",
"Category": "",
"AntialiasingMode": "Fast",
"TextAntialiasingMode": "Force",
"Version": "2.8.0",
"Keywords": "2003"
},
"supportsQueryDomains": true,
"capabilities": "Map",
"supportedQueryFormats": "JSON, geoJSON, PBF",
"exportTilesAllowed": false,
"referenceScale": 0.0,
"datumTransformations": [
{
"geoTransforms": [
{
"wkid": 108001,
"latestWkid": 1241,
"transformForward": true,
"name": "NAD_1927_To_NAD_1983_NADCON"
}
]
},
{
"geoTransforms": [
{
"wkid": 108001,
"latestWkid": 1241,
"transformForward": false,
"name": "NAD_1927_To_NAD_1983_NADCON"
}
]
}
],
"supportsDatumTransformation": true,
"archivingInfo": {"supportsHistoricMoment": false},
"supportsClipping": true,
"supportsSpatialFilter": true,
"supportsTimeRelation": true,
"supportsQueryDataElements": true,
"maxRecordCount": 2000,
"maxImageHeight": 4096,
"maxImageWidth": 4096,
"supportedExtensions": "",
"resampling": false,
"serviceItemId": "26c3eb34033943e2afe7b4719eb01f63"
}